Package: epivizrStandalone Version: 1.37.1 Command: rm -rf epivizrStandalone.buildbin-libdir && mkdir epivizrStandalone.buildbin-libdir && /Users/biocbuild/BBS/utils/build-universal.sh epivizrStandalone_1.37.1.tar.gz /Library/Frameworks/R.framework/Resources/bin/R epivizrStandalone.buildbin-libdir StartedAt: 2025-10-19 22:58:58 -0400 (Sun, 19 Oct 2025) EndedAt: 2025-10-19 22:59:16 -0400 (Sun, 19 Oct 2025) EllapsedTime: 18.4 seconds RetCode: 0 Status: OK PackageFile: epivizrStandalone_1.37.1.tgz PackageFileSize: 300.7 KiB