Package: epivizrStandalone Version: 1.37.1 Maintainer: Hector Corrada Bravo MaintainerEmail: hcorrada at gmail.com git_url: https://git.bioconductor.org/packages/epivizrStandalone git_branch: devel git_last_commit: bdfb19d git_last_commit_date: 2025-07-24 19:20:41 -0400 (Thu, 24 Jul 2025)