Package: epivizrServer Version: 1.37.0 Command: /home/biocbuild/R/R/bin/R CMD INSTALL epivizrServer StartedAt: 2025-10-13 20:33:52 -0000 (Mon, 13 Oct 2025) EndedAt: 2025-10-13 20:34:17 -0000 (Mon, 13 Oct 2025) EllapsedTime: 25.5 seconds RetCode: 0 Status: OK