Package: epivizrServer Version: 1.37.0 Command: /home/biocbuild/bbs-3.22-bioc/R/bin/R CMD INSTALL epivizrServer StartedAt: 2025-10-19 15:04:58 -0400 (Sun, 19 Oct 2025) EndedAt: 2025-10-19 15:05:11 -0400 (Sun, 19 Oct 2025) EllapsedTime: 12.4 seconds RetCode: 0 Status: OK