Package: epivizrServer Version: 1.37.0 Command: /Library/Frameworks/R.framework/Resources/bin/R CMD INSTALL epivizrServer StartedAt: 2025-10-19 15:07:39 -0400 (Sun, 19 Oct 2025) EndedAt: 2025-10-19 15:08:10 -0400 (Sun, 19 Oct 2025) EllapsedTime: 30.3 seconds RetCode: 0 Status: OK