Package: epivizrData Version: 1.37.2 Command: /home/biocbuild/R/R/bin/R CMD INSTALL epivizrData StartedAt: 2025-09-29 21:23:09 -0000 (Mon, 29 Sep 2025) EndedAt: 2025-09-29 21:24:02 -0000 (Mon, 29 Sep 2025) EllapsedTime: 52.9 seconds RetCode: 0 Status: OK