Package: epivizrData Version: 1.37.2 Command: /home/biocbuild/R/R/bin/R CMD build --keep-empty-dirs --no-resave-data epivizrData StartedAt: 2025-09-29 23:52:11 -0000 (Mon, 29 Sep 2025) EndedAt: 2025-09-29 23:53:22 -0000 (Mon, 29 Sep 2025) EllapsedTime: 71.0 seconds RetCode: 0 Status: OK PackageFile: epivizrData_1.37.2.tar.gz PackageFileSize: 270 KiB