Package: epivizrData Version: 1.37.2 Command: rm -rf epivizrData.buildbin-libdir && mkdir epivizrData.buildbin-libdir && F:\biocbuild\bbs-3.22-bioc\R\bin\R.exe CMD INSTALL --build --library=epivizrData.buildbin-libdir epivizrData_1.37.2.tar.gz StartedAt: 2025-08-15 10:14:31 -0400 (Fri, 15 Aug 2025) EndedAt: 2025-08-15 10:15:41 -0400 (Fri, 15 Aug 2025) EllapsedTime: 69.5 seconds RetCode: 0 Status: OK PackageFile: epivizrData_1.37.2.zip PackageFileSize: 884.1 KiB