Package: epivizrChart Version: 1.31.0 Command: /home/biocbuild/R/R/bin/R CMD INSTALL epivizrChart StartedAt: 2025-10-16 22:03:01 -0000 (Thu, 16 Oct 2025) EndedAt: 2025-10-16 22:03:55 -0000 (Thu, 16 Oct 2025) EllapsedTime: 54.7 seconds RetCode: 0 Status: OK