Package: epivizrChart Version: 1.31.0 Command: /home/biocbuild/R/R/bin/R CMD build --keep-empty-dirs --no-resave-data epivizrChart StartedAt: 2025-10-17 01:02:10 -0000 (Fri, 17 Oct 2025) EndedAt: 2025-10-17 01:05:10 -0000 (Fri, 17 Oct 2025) EllapsedTime: 180.1 seconds RetCode: 0 Status: OK PackageFile: epivizrChart_1.31.0.tar.gz PackageFileSize: 5.427 MiB