Package: epivizrChart Version: 1.31.0 Command: /Library/Frameworks/R.framework/Resources/bin/R CMD INSTALL epivizrChart StartedAt: 2025-10-19 15:41:06 -0400 (Sun, 19 Oct 2025) EndedAt: 2025-10-19 15:42:04 -0400 (Sun, 19 Oct 2025) EllapsedTime: 58.5 seconds RetCode: 0 Status: OK