Package: epivizrChart Version: 1.31.0 Command: /Library/Frameworks/R.framework/Resources/bin/R CMD check --install=check:epivizrChart.install-out.txt --library=/Library/Frameworks/R.framework/Resources/library --no-vignettes --timings epivizrChart_1.31.0.tar.gz StartedAt: 2025-10-19 22:05:31 -0400 (Sun, 19 Oct 2025) EndedAt: 2025-10-19 22:13:02 -0400 (Sun, 19 Oct 2025) EllapsedTime: 450.3 seconds RetCode: 0 Status: OK CheckDir: epivizrChart.Rcheck Warnings: 0