Package: epivizrChart Version: 1.31.0 Command: rm -rf epivizrChart.buildbin-libdir && mkdir epivizrChart.buildbin-libdir && /Users/biocbuild/BBS/utils/build-universal.sh epivizrChart_1.31.0.tar.gz /Library/Frameworks/R.framework/Resources/bin/R epivizrChart.buildbin-libdir StartedAt: 2025-10-19 22:58:55 -0400 (Sun, 19 Oct 2025) EndedAt: 2025-10-19 22:59:14 -0400 (Sun, 19 Oct 2025) EllapsedTime: 19.4 seconds RetCode: 0 Status: OK PackageFile: epivizrChart_1.31.0.tgz PackageFileSize: 6.271 MiB