Package: epivizr Version: 2.40.0 Command: /Library/Frameworks/R.framework/Resources/bin/R CMD check --install=check:epivizr.install-out.txt --library=/Library/Frameworks/R.framework/Resources/library --no-vignettes --timings epivizr_2.40.0.tar.gz StartedAt: 2025-11-03 21:04:35 -0500 (Mon, 03 Nov 2025) EndedAt: 2025-11-03 21:11:15 -0500 (Mon, 03 Nov 2025) EllapsedTime: 399.8 seconds RetCode: 0 Status: OK CheckDir: epivizr.Rcheck Warnings: 0