Package: epivizr Version: 2.40.0 Command: /Library/Frameworks/R.framework/Resources/bin/R CMD build --keep-empty-dirs --no-resave-data epivizr StartedAt: 2025-11-03 16:58:22 -0500 (Mon, 03 Nov 2025) EndedAt: 2025-11-03 16:59:41 -0500 (Mon, 03 Nov 2025) EllapsedTime: 78.8 seconds RetCode: 0 Status: OK PackageFile: epivizr_2.40.0.tar.gz PackageFileSize: 1.153 MiB