Package: epivizr Version: 2.40.0 Command: rm -rf epivizr.buildbin-libdir && mkdir epivizr.buildbin-libdir && /Users/biocbuild/BBS/utils/build-universal.sh epivizr_2.40.0.tar.gz /Library/Frameworks/R.framework/Resources/bin/R epivizr.buildbin-libdir StartedAt: 2025-11-04 01:39:12 -0500 (Tue, 04 Nov 2025) EndedAt: 2025-11-04 01:40:14 -0500 (Tue, 04 Nov 2025) EllapsedTime: 62.9 seconds RetCode: 0 Status: OK PackageFile: epivizr_2.40.0.tgz PackageFileSize: 1.999 MiB