Package: epiregulon Version: 2.0.1 Command: /home/biocbuild/R/R/bin/R CMD check --install=check:epiregulon.install-out.txt --library=/home/biocbuild/R/R/site-library --no-vignettes --timings epiregulon_2.0.1.tar.gz StartedAt: 2025-11-21 10:28:07 -0000 (Fri, 21 Nov 2025) EndedAt: 2025-11-21 10:46:00 -0000 (Fri, 21 Nov 2025) EllapsedTime: 1072.7 seconds RetCode: 0 Status: OK CheckDir: epiregulon.Rcheck Warnings: 0