Package: epiregulon Version: 2.0.1 Command: /home/biocbuild/R/R/bin/R CMD build --keep-empty-dirs --no-resave-data epiregulon StartedAt: 2025-11-18 01:26:13 -0000 (Tue, 18 Nov 2025) EndedAt: 2025-11-18 01:42:34 -0000 (Tue, 18 Nov 2025) EllapsedTime: 980.4 seconds RetCode: 0 Status: OK PackageFile: epiregulon_2.0.1.tar.gz PackageFileSize: 783.4 KiB