Package: epiregulon.extra Version: 1.5.1 Command: /home/biocbuild/bbs-3.22-bioc/R/bin/R CMD check --install=check:epiregulon.extra.install-out.txt --library=/home/biocbuild/bbs-3.22-bioc/R/site-library --timings epiregulon.extra_1.5.1.tar.gz StartedAt: 2025-10-20 23:33:01 -0400 (Mon, 20 Oct 2025) EndedAt: 2025-10-20 23:49:17 -0400 (Mon, 20 Oct 2025) EllapsedTime: 975.8 seconds RetCode: 0 Status: OK CheckDir: epiregulon.extra.Rcheck Warnings: 0