Package: epiregulon.extra Version: 1.5.1 Command: /home/biocbuild/bbs-3.22-bioc/R/bin/R CMD build --keep-empty-dirs --no-resave-data --md5 epiregulon.extra StartedAt: 2025-10-20 17:28:33 -0400 (Mon, 20 Oct 2025) EndedAt: 2025-10-20 17:34:23 -0400 (Mon, 20 Oct 2025) EllapsedTime: 349.4 seconds RetCode: 0 Status: OK PackageFile: epiregulon.extra_1.5.1.tar.gz PackageFileSize: 3.201 MiB