Package: epiregulon.extra Version: 1.5.1 Command: /Library/Frameworks/R.framework/Resources/bin/R CMD INSTALL epiregulon.extra StartedAt: 2025-10-20 15:49:15 -0400 (Mon, 20 Oct 2025) EndedAt: 2025-10-20 15:49:53 -0400 (Mon, 20 Oct 2025) EllapsedTime: 38.3 seconds RetCode: 0 Status: OK