Package: epiregulon.extra Version: 1.5.1 Command: /Library/Frameworks/R.framework/Resources/bin/R CMD check --install=check:epiregulon.extra.install-out.txt --library=/Library/Frameworks/R.framework/Resources/library --no-vignettes --timings epiregulon.extra_1.5.1.tar.gz StartedAt: 2025-10-20 22:06:09 -0400 (Mon, 20 Oct 2025) EndedAt: 2025-10-20 22:22:19 -0400 (Mon, 20 Oct 2025) EllapsedTime: 970.8 seconds RetCode: 0 Status: OK CheckDir: epiregulon.extra.Rcheck Warnings: 0