Package: epiregulon.extra Version: 1.5.1 Command: /Library/Frameworks/R.framework/Resources/bin/R CMD build --keep-empty-dirs --no-resave-data epiregulon.extra StartedAt: 2025-10-21 17:08:45 -0400 (Tue, 21 Oct 2025) EndedAt: 2025-10-21 17:16:02 -0400 (Tue, 21 Oct 2025) EllapsedTime: 436.7 seconds RetCode: 0 Status: OK PackageFile: epiregulon.extra_1.5.1.tar.gz PackageFileSize: 3.33 MiB