Package: epiregulon.extra Version: 1.5.1 Command: rm -rf epiregulon.extra.buildbin-libdir && mkdir epiregulon.extra.buildbin-libdir && /Users/biocbuild/BBS/utils/build-universal.sh epiregulon.extra_1.5.1.tar.gz /Library/Frameworks/R.framework/Resources/bin/R epiregulon.extra.buildbin-libdir StartedAt: 2025-10-21 03:10:50 -0400 (Tue, 21 Oct 2025) EndedAt: 2025-10-21 03:11:32 -0400 (Tue, 21 Oct 2025) EllapsedTime: 41.6 seconds RetCode: 0 Status: OK PackageFile: epiregulon.extra_1.5.1.tgz PackageFileSize: 3.402 MiB