Package: epiregulon.extra Version: 1.5.1 Command: /Library/Frameworks/R.framework/Resources/bin/R CMD check --install=check:epiregulon.extra.install-out.txt --library=/Library/Frameworks/R.framework/Resources/library --no-vignettes --timings epiregulon.extra_1.5.1.tar.gz StartedAt: 2025-10-21 19:40:01 -0400 (Tue, 21 Oct 2025) EndedAt: 2025-10-21 19:43:34 -0400 (Tue, 21 Oct 2025) EllapsedTime: 212.4 seconds RetCode: 0 Status: OK CheckDir: epiregulon.extra.Rcheck Warnings: 0