Package: epimutacions Version: 1.14.0 Command: /home/biocbuild/R/R/bin/R CMD INSTALL epimutacions StartedAt: 2025-11-20 22:54:12 -0000 (Thu, 20 Nov 2025) EndedAt: 2025-11-20 22:55:17 -0000 (Thu, 20 Nov 2025) EllapsedTime: 64.6 seconds RetCode: 0 Status: OK