Package: epimutacions Version: 1.14.0 Command: /home/biocbuild/R/R/bin/R CMD build --keep-empty-dirs --no-resave-data epimutacions StartedAt: 2025-11-21 02:13:42 -0000 (Fri, 21 Nov 2025) EndedAt: 2025-11-21 02:17:51 -0000 (Fri, 21 Nov 2025) EllapsedTime: 249.2 seconds RetCode: 0 Status: OK PackageFile: epimutacions_1.14.0.tar.gz PackageFileSize: 1.709 MiB