Package: epimutacions Version: 1.14.0 Command: /Library/Frameworks/R.framework/Resources/bin/R CMD build --keep-empty-dirs --no-resave-data epimutacions StartedAt: 2025-11-17 22:17:16 -0500 (Mon, 17 Nov 2025) EndedAt: 2025-11-17 22:23:34 -0500 (Mon, 17 Nov 2025) EllapsedTime: 378.5 seconds RetCode: 0 Status: OK PackageFile: epimutacions_1.14.0.tar.gz PackageFileSize: 1.736 MiB