Package: epimutacions Version: 1.14.0 Command: rm -rf epimutacions.buildbin-libdir && mkdir epimutacions.buildbin-libdir && /Users/biocbuild/BBS/utils/build-universal.sh epimutacions_1.14.0.tar.gz /Library/Frameworks/R.framework/Resources/bin/R epimutacions.buildbin-libdir StartedAt: 2025-11-18 17:36:56 -0500 (Tue, 18 Nov 2025) EndedAt: 2025-11-18 17:38:47 -0500 (Tue, 18 Nov 2025) EllapsedTime: 111.3 seconds RetCode: 0 Status: OK PackageFile: epimutacions_1.14.0.tgz PackageFileSize: 1.656 MiB