Package: epigraHMM Version: 1.17.3 Command: /home/biocbuild/R/R/bin/R CMD check --install=check:epigraHMM.install-out.txt --library=/home/biocbuild/R/R/site-library --no-vignettes --timings epigraHMM_1.17.3.tar.gz StartedAt: 2025-10-17 08:41:31 -0000 (Fri, 17 Oct 2025) EndedAt: 2025-10-17 08:51:32 -0000 (Fri, 17 Oct 2025) EllapsedTime: 600.9 seconds RetCode: 0 Status: WARNINGS CheckDir: epigraHMM.Rcheck Warnings: 1