Package: epigenomix Version: 1.49.0 Command: /Library/Frameworks/R.framework/Resources/bin/R CMD build --keep-empty-dirs --no-resave-data epigenomix StartedAt: 2025-10-16 17:32:40 -0400 (Thu, 16 Oct 2025) EndedAt: 2025-10-16 17:34:41 -0400 (Thu, 16 Oct 2025) EllapsedTime: 120.8 seconds RetCode: 0 Status: OK PackageFile: epigenomix_1.49.0.tar.gz PackageFileSize: 426 KiB