Package: epialleleR Version: 1.17.1 Command: /Library/Frameworks/R.framework/Resources/bin/R CMD INSTALL epialleleR StartedAt: 2025-09-30 15:30:37 -0400 (Tue, 30 Sep 2025) EndedAt: 2025-09-30 15:31:51 -0400 (Tue, 30 Sep 2025) EllapsedTime: 73.9 seconds RetCode: 0 Status: OK