Package: epialleleR Version: 1.17.1 Command: /Library/Frameworks/R.framework/Resources/bin/R CMD INSTALL epialleleR StartedAt: 2025-10-14 15:19:23 -0400 (Tue, 14 Oct 2025) EndedAt: 2025-10-14 15:19:42 -0400 (Tue, 14 Oct 2025) EllapsedTime: 19.2 seconds RetCode: 0 Status: OK