Package: epialleleR Version: 1.17.1 Command: /Library/Frameworks/R.framework/Resources/bin/R CMD check --install=check:epialleleR.install-out.txt --library=/Library/Frameworks/R.framework/Resources/library --no-vignettes --timings epialleleR_1.17.1.tar.gz StartedAt: 2025-10-14 20:00:46 -0400 (Tue, 14 Oct 2025) EndedAt: 2025-10-14 20:01:41 -0400 (Tue, 14 Oct 2025) EllapsedTime: 54.6 seconds RetCode: 0 Status: OK CheckDir: epialleleR.Rcheck Warnings: 0