Package: epialleleR Version: 1.17.1 Command: /Library/Frameworks/R.framework/Resources/bin/R CMD build --keep-empty-dirs --no-resave-data epialleleR StartedAt: 2025-10-14 16:18:22 -0400 (Tue, 14 Oct 2025) EndedAt: 2025-10-14 16:18:59 -0400 (Tue, 14 Oct 2025) EllapsedTime: 36.4 seconds RetCode: 0 Status: OK PackageFile: epialleleR_1.17.1.tar.gz PackageFileSize: 3.8 MiB