Package: epiNEM Version: 1.33.0 Command: /home/biocbuild/R/R/bin/R CMD build --keep-empty-dirs --no-resave-data epiNEM StartedAt: 2025-10-17 00:59:45 -0000 (Fri, 17 Oct 2025) EndedAt: 2025-10-17 01:01:14 -0000 (Fri, 17 Oct 2025) EllapsedTime: 89.0 seconds RetCode: 0 Status: OK PackageFile: epiNEM_1.33.0.tar.gz PackageFileSize: 1.183 MiB