Package: epiNEM Version: 1.33.0 Command: /home/biocbuild/bbs-3.22-bioc/R/bin/R CMD INSTALL epiNEM StartedAt: 2025-10-20 15:16:00 -0400 (Mon, 20 Oct 2025) EndedAt: 2025-10-20 15:16:18 -0400 (Mon, 20 Oct 2025) EllapsedTime: 17.7 seconds RetCode: 0 Status: OK