Package: epiNEM Version: 1.33.0 Command: /home/biocbuild/bbs-3.22-bioc/R/bin/R CMD check --install=check:epiNEM.install-out.txt --library=/home/biocbuild/bbs-3.22-bioc/R/site-library --timings epiNEM_1.33.0.tar.gz StartedAt: 2025-10-19 23:36:57 -0400 (Sun, 19 Oct 2025) EndedAt: 2025-10-19 23:41:03 -0400 (Sun, 19 Oct 2025) EllapsedTime: 245.2 seconds RetCode: 0 Status: OK CheckDir: epiNEM.Rcheck Warnings: 0