Package: ensembldb Version: 2.33.2 Command: /home/biocbuild/R/R/bin/R CMD check --install=check:ensembldb.install-out.txt --library=/home/biocbuild/R/R/site-library --no-vignettes --timings ensembldb_2.33.2.tar.gz StartedAt: 2025-10-17 08:39:47 -0000 (Fri, 17 Oct 2025) EndedAt: 2025-10-17 08:57:45 -0000 (Fri, 17 Oct 2025) EllapsedTime: 1078.2 seconds RetCode: 0 Status: OK CheckDir: ensembldb.Rcheck Warnings: 0