Package: ensembldb Version: 2.33.1 Command: F:\biocbuild\bbs-3.22-bioc\R\bin\R.exe CMD check --no-multiarch --install=check:ensembldb.install-out.txt --library=F:\biocbuild\bbs-3.22-bioc\R\library --no-vignettes --timings ensembldb_2.33.1.tar.gz StartedAt: 2025-08-15 02:58:20 -0400 (Fri, 15 Aug 2025) EndedAt: 2025-08-15 03:26:15 -0400 (Fri, 15 Aug 2025) EllapsedTime: 1674.7 seconds RetCode: 0 Status: OK CheckDir: ensembldb.Rcheck Warnings: 0