Package: ensembldb Version: 2.33.2 Command: /Library/Frameworks/R.framework/Resources/bin/R CMD INSTALL ensembldb StartedAt: 2025-10-19 15:37:22 -0400 (Sun, 19 Oct 2025) EndedAt: 2025-10-19 15:38:22 -0400 (Sun, 19 Oct 2025) EllapsedTime: 59.6 seconds RetCode: 0 Status: OK