Package: ensembldb Version: 2.33.2 Command: /Library/Frameworks/R.framework/Resources/bin/R CMD check --install=check:ensembldb.install-out.txt --library=/Library/Frameworks/R.framework/Resources/library --no-vignettes --timings ensembldb_2.33.2.tar.gz StartedAt: 2025-10-19 22:01:47 -0400 (Sun, 19 Oct 2025) EndedAt: 2025-10-19 22:40:49 -0400 (Sun, 19 Oct 2025) EllapsedTime: 2341.7 seconds RetCode: 0 Status: OK CheckDir: ensembldb.Rcheck Warnings: 0