Package: ensembldb Version: 2.33.2 Command: rm -rf ensembldb.buildbin-libdir && mkdir ensembldb.buildbin-libdir && /Users/biocbuild/BBS/utils/build-universal.sh ensembldb_2.33.2.tar.gz /Library/Frameworks/R.framework/Resources/bin/R ensembldb.buildbin-libdir StartedAt: 2025-10-20 03:07:55 -0400 (Mon, 20 Oct 2025) EndedAt: 2025-10-20 03:08:57 -0400 (Mon, 20 Oct 2025) EllapsedTime: 61.4 seconds RetCode: 0 Status: OK PackageFile: ensembldb_2.33.2.tgz PackageFileSize: 3.596 MiB