Package: ensembldb Version: 2.33.2 Command: /Library/Frameworks/R.framework/Resources/bin/R CMD build --keep-empty-dirs --no-resave-data ensembldb StartedAt: 2025-10-19 16:18:11 -0400 (Sun, 19 Oct 2025) EndedAt: 2025-10-19 16:18:58 -0400 (Sun, 19 Oct 2025) EllapsedTime: 46.5 seconds RetCode: 0 Status: OK PackageFile: ensembldb_2.33.2.tar.gz PackageFileSize: 3.281 MiB