Package: enhancerHomologSearch Version: 1.16.0 Command: /home/biocbuild/R/R/bin/R CMD build --keep-empty-dirs --no-resave-data enhancerHomologSearch StartedAt: 2025-11-21 02:09:29 -0000 (Fri, 21 Nov 2025) EndedAt: 2025-11-21 02:24:39 -0000 (Fri, 21 Nov 2025) EllapsedTime: 910.8 seconds RetCode: 0 Status: OK PackageFile: enhancerHomologSearch_1.16.0.tar.gz PackageFileSize: 1.107 MiB