Package: enhancerHomologSearch Version: 1.15.1 Command: /Library/Frameworks/R.framework/Resources/bin/R CMD INSTALL enhancerHomologSearch StartedAt: 2025-10-17 15:45:26 -0400 (Fri, 17 Oct 2025) EndedAt: 2025-10-17 15:51:03 -0400 (Fri, 17 Oct 2025) EllapsedTime: 336.8 seconds RetCode: 0 Status: OK