Package: eds Version: 1.12.0 Command: /Library/Frameworks/R.framework/Resources/bin/R CMD check --install=check:eds.install-out.txt --library=/Library/Frameworks/R.framework/Resources/library --no-vignettes --timings eds_1.12.0.tar.gz StartedAt: 2025-11-10 19:53:41 -0500 (Mon, 10 Nov 2025) EndedAt: 2025-11-10 19:54:01 -0500 (Mon, 10 Nov 2025) EllapsedTime: 19.2 seconds RetCode: 0 Status: OK CheckDir: eds.Rcheck Warnings: 0