Package: eds Version: 1.12.0 Command: /Library/Frameworks/R.framework/Resources/bin/R CMD build --keep-empty-dirs --no-resave-data eds StartedAt: 2025-11-10 16:18:15 -0500 (Mon, 10 Nov 2025) EndedAt: 2025-11-10 16:18:21 -0500 (Mon, 10 Nov 2025) EllapsedTime: 6.1 seconds RetCode: 0 Status: OK PackageFile: eds_1.12.0.tar.gz PackageFileSize: 217.5 KiB