Package: edge Version: 2.41.0 Command: /home/biocbuild/bbs-3.22-bioc/R/bin/R CMD INSTALL edge StartedAt: 2025-10-08 15:40:03 -0400 (Wed, 08 Oct 2025) EndedAt: 2025-10-08 15:40:31 -0400 (Wed, 08 Oct 2025) EllapsedTime: 27.5 seconds RetCode: 0 Status: OK