Package: edge Version: 2.42.0 Command: /Library/Frameworks/R.framework/Resources/bin/R CMD INSTALL edge StartedAt: 2025-11-20 16:36:06 -0500 (Thu, 20 Nov 2025) EndedAt: 2025-11-20 16:37:04 -0500 (Thu, 20 Nov 2025) EllapsedTime: 57.7 seconds RetCode: 0 Status: OK